BEGIN:VCALENDAR
VERSION:2.0
PRODID:-//ddaysoftware.com//NONSGML DDay.iCal 1.0//EN
BEGIN:VTIMEZONE
TZID:W. Europe Standard Time
BEGIN:STANDARD
DTSTART:20251002T030000
RRULE:FREQ=YEARLY;BYDAY=-1SU;BYHOUR=3;BYMINUTE=0;BYMONTH=10
TZNAME:Mitteleuropäische Zeit
TZOFFSETFROM:+0200
TZOFFSETTO:+0100
END:STANDARD
BEGIN:DAYLIGHT
DTSTART:20250301T020000
RRULE:FREQ=YEARLY;BYDAY=-1SU;BYHOUR=2;BYMINUTE=0;BYMONTH=3
TZNAME:Mitteleuropäische Sommerzeit
TZOFFSETFROM:+0100
TZOFFSETTO:+0200
END:DAYLIGHT
END:VTIMEZONE
BEGIN:VEVENT
CATEGORIES:Sport
DESCRIPTION:18:00 Uhr Essen\n\nVeranstalter: Schützenverein Mitwitz\n\nhttp
 s://www.mitwitz.de/aktuelles/veranstaltungen/pistolen-gaudischiessen/
DTEND:20270109T180000
DTSTAMP:20260420T102829Z
DTSTART:20270109T150000
LOCATION:Schützenhaus Mitwitz: Am Riegel\, 96268 Mitwitz
SEQUENCE:0
SUMMARY:Pistolen-Gaudischießen
UID:70282
URL:https://www.mitwitz.de/aktuelles/veranstaltungen/pistolen-gaudischiesse
 n/
END:VEVENT
END:VCALENDAR
