BEGIN:VCALENDAR
VERSION:2.0
PRODID:-//ddaysoftware.com//NONSGML DDay.iCal 1.0//EN
BEGIN:VTIMEZONE
TZID:W. Europe Standard Time
BEGIN:STANDARD
DTSTART:20251002T030000
RRULE:FREQ=YEARLY;BYDAY=-1SU;BYHOUR=3;BYMINUTE=0;BYMONTH=10
TZNAME:Mitteleuropäische Zeit
TZOFFSETFROM:+0200
TZOFFSETTO:+0100
END:STANDARD
BEGIN:DAYLIGHT
DTSTART:20250301T020000
RRULE:FREQ=YEARLY;BYDAY=-1SU;BYHOUR=2;BYMINUTE=0;BYMONTH=3
TZNAME:Mitteleuropäische Sommerzeit
TZOFFSETFROM:+0100
TZOFFSETTO:+0200
END:DAYLIGHT
END:VTIMEZONE
BEGIN:VEVENT
CATEGORIES:Kirchweih
DESCRIPTION:\n\nVeranstalter: Mimetzer Krouha\, Stammtisch Blaue Forelle\n\
 nhttps://www.mitwitz.de/aktuelles/veranstaltungen/kirchweih-federn-und-sch
 uppenspektakel/
DTEND:20250820T180000
DTSTAMP:20260420T104317Z
DTSTART:20250820T170000
LOCATION:Neue  Mitte Mitwitz: Kronacher Straße 2\, 96268 Mitwitz
SEQUENCE:0
SUMMARY:Kirchweih: Federn- und Schuppenspektakel
UID:70699
URL:https://www.mitwitz.de/aktuelles/veranstaltungen/kirchweih-federn-und-s
 chuppenspektakel/
END:VEVENT
END:VCALENDAR
