BEGIN:VCALENDAR
VERSION:2.0
PRODID:-//ddaysoftware.com//NONSGML DDay.iCal 1.0//EN
BEGIN:VTIMEZONE
TZID:W. Europe Standard Time
BEGIN:STANDARD
DTSTART:20251002T030000
RRULE:FREQ=YEARLY;BYDAY=-1SU;BYHOUR=3;BYMINUTE=0;BYMONTH=10
TZNAME:Mitteleuropäische Zeit
TZOFFSETFROM:+0200
TZOFFSETTO:+0100
END:STANDARD
BEGIN:DAYLIGHT
DTSTART:20250301T020000
RRULE:FREQ=YEARLY;BYDAY=-1SU;BYHOUR=2;BYMINUTE=0;BYMONTH=3
TZNAME:Mitteleuropäische Sommerzeit
TZOFFSETFROM:+0100
TZOFFSETTO:+0200
END:DAYLIGHT
END:VTIMEZONE
BEGIN:VEVENT
CATEGORIES:Wanderung
DESCRIPTION:\n\nVeranstalter: Frankenwaldverein OG Mitwitz\n\nhttps://www.m
 itwitz.de/aktuelles/veranstaltungen/wanderung-zum-wald-und-wiesenfest-in-b
 urgstall/
DTEND:20260802T093000
DTSTAMP:20260420T122001Z
DTSTART:20260802T083000
LOCATION:Mitwitz
SEQUENCE:0
SUMMARY:Wanderung zum Wald- und Wiesenfest in Burgstall
UID:67940
URL:https://www.mitwitz.de/aktuelles/veranstaltungen/wanderung-zum-wald-und
 -wiesenfest-in-burgstall/
END:VEVENT
END:VCALENDAR
