BEGIN:VCALENDAR
VERSION:2.0
PRODID:-//ddaysoftware.com//NONSGML DDay.iCal 1.0//EN
BEGIN:VTIMEZONE
TZID:W. Europe Standard Time
BEGIN:STANDARD
DTSTART:20251002T030000
RRULE:FREQ=YEARLY;BYDAY=-1SU;BYHOUR=3;BYMINUTE=0;BYMONTH=10
TZNAME:Mitteleuropäische Zeit
TZOFFSETFROM:+0200
TZOFFSETTO:+0100
END:STANDARD
BEGIN:DAYLIGHT
DTSTART:20250301T020000
RRULE:FREQ=YEARLY;BYDAY=-1SU;BYHOUR=2;BYMINUTE=0;BYMONTH=3
TZNAME:Mitteleuropäische Sommerzeit
TZOFFSETFROM:+0100
TZOFFSETTO:+0200
END:DAYLIGHT
END:VTIMEZONE
BEGIN:VEVENT
CATEGORIES:Feste
DESCRIPTION:\n\nVeranstalter: Ev. Kirchengemeinde\n\nhttps://www.mitwitz.de
 /aktuelles/veranstaltungen/gemeindefest-mit-gottesdienst/
DTEND:20260927T103000
DTSTAMP:20260424T044715Z
DTSTART:20260927T093000
LOCATION:Ev. Gemeindehaus Mitwitz: Kirchstraße 20\, 96268 Mitwitz
SEQUENCE:0
SUMMARY:Gemeindefest mit Gottesdienst
UID:75607
URL:https://www.mitwitz.de/aktuelles/veranstaltungen/gemeindefest-mit-gotte
 sdienst/
END:VEVENT
END:VCALENDAR
