BEGIN:VCALENDAR
VERSION:2.0
PRODID:-//ddaysoftware.com//NONSGML DDay.iCal 1.0//EN
BEGIN:VTIMEZONE
TZID:W. Europe Standard Time
BEGIN:STANDARD
DTSTART:20251002T030000
RRULE:FREQ=YEARLY;BYDAY=-1SU;BYHOUR=3;BYMINUTE=0;BYMONTH=10
TZNAME:Mitteleuropäische Zeit
TZOFFSETFROM:+0200
TZOFFSETTO:+0100
END:STANDARD
BEGIN:DAYLIGHT
DTSTART:20250301T020000
RRULE:FREQ=YEARLY;BYDAY=-1SU;BYHOUR=2;BYMINUTE=0;BYMONTH=3
TZNAME:Mitteleuropäische Sommerzeit
TZOFFSETFROM:+0100
TZOFFSETTO:+0200
END:DAYLIGHT
END:VTIMEZONE
BEGIN:VEVENT
CATEGORIES:Feste
DESCRIPTION:\n\nVeranstalter: Mimetzer Krouha\n\nhttps://www.mitwitz.de/akt
 uelles/veranstaltungen/faschingstanz-der-mimetzer-krouha/
DTEND:20260214T203000
DTSTAMP:20260419T205119Z
DTSTART:20260214T193000
LOCATION:Alte Turnhalle: Schlossallee 
SEQUENCE:0
SUMMARY:Faschingstanz der Mimetzer Krouha
UID:70692
URL:https://www.mitwitz.de/aktuelles/veranstaltungen/faschingstanz-der-mime
 tzer-krouha/
END:VEVENT
END:VCALENDAR
